BEGIN:VCALENDAR
VERSION:2.0
PRODID:-//Squarespace Inc/Squarespace 6//v6//EN
BEGIN:VEVENT
UID:601b6235b0f45f7f3492fa2e@squarespace.com
DTSTAMP:20210204T030055Z
DTSTART:20210221T060000Z
DTEND:20210221T100000Z
SUMMARY:Live Sloop Session
GEO:-34.621873;135.477173
LOCATION:1802 Oyster Bar + Bistro\, 61 Esplanade\, Coffin Bay\, SA\, 5607\, 
 Australia
END:VEVENT
END:VCALENDAR
