BEGIN:VCALENDAR
VERSION:2.0
PRODID:-//Squarespace Inc/Squarespace 6//v6//EN
BEGIN:VEVENT
UID:5ebf533658180e455c5e43b5@squarespace.com
DTSTAMP:20200516T024826Z
DTSTART:20200522T073000Z
DTEND:20200522T113000Z
SUMMARY:Takeaway Burger &amp\; Beer Night @ Beer Garden Brewing
END:VEVENT
END:VCALENDAR
