BEGIN:VCALENDAR
VERSION:2.0
PRODID:-//Squarespace Inc/Squarespace 6//v6//EN
BEGIN:VEVENT
UID:5e26613d63ef4f758b89775e@squarespace.com
DTSTAMP:20200124T064551Z
DTSTART:20200223T080000Z
DTEND:20200223T110000Z
SUMMARY:Sidewood Dinner
END:VEVENT
END:VCALENDAR
