BEGIN:VCALENDAR
VERSION:2.0
PRODID:-//Squarespace Inc/Squarespace 6//v6//EN
BEGIN:VEVENT
UID:5e19b3e470429775100cdb96@squarespace.com
DTSTAMP:20200111T114454Z
DTSTART:20200117T073000Z
DTEND:20200117T131500Z
SUMMARY:Kangaroo Island Bushfire Fundraiser
END:VEVENT
END:VCALENDAR
