BEGIN:VCALENDAR
VERSION:2.0
PRODID:-//Squarespace Inc/Squarespace 6//v6//EN
BEGIN:VEVENT
UID:5de869504f096d70f8e2e347@squarespace.com
DTSTAMP:20200203T015731Z
DTSTART:20200208T080000Z
DTEND:20200208T103000Z
SUMMARY:Tasting Eyre
END:VEVENT
END:VCALENDAR
